BEGIN:VCALENDAR
VERSION:2.0
PRODID:-//Artisan du dessert - ECPv4.6.26.1//NONSGML v1.0//EN
CALSCALE:GREGORIAN
METHOD:PUBLISH
X-WR-CALNAME:Artisan du dessert
X-ORIGINAL-URL:https://www.artisandudessert.ca
X-WR-CALDESC:Événements pour Artisan du dessert
BEGIN:VEVENT
DTSTART;TZID=America/Toronto:20191121T183000
DTEND;TZID=America/Toronto:20191121T203000
DTSTAMP:20260423T215625
CREATED:20181126T164719Z
LAST-MODIFIED:20191115T183755Z
UID:2615-1574361000-1574368200@www.artisandudessert.ca
SUMMARY:Chocolat de type belge - Niveau II
DESCRIPTION:Démonstration et dégustation de 2 heures. Découvrez de nouvelles recettes de truffes et d’intérieurs pralinés: pavé praliné\,  utilisation de feuilles de transfert\, confection de formes 3D et plus encore. Les participants repartent a la maison avec quelques échantillons et les recettes.\n\nPour les modalités d’inscription ou plus d’information n’hésitez pas à nous appeler au 819-246-8888.\n\nPrix : 45$ plus taxes
URL:https://www.artisandudessert.ca/atelier/chocolat-de-type-belge-niveau-ii/2019-11-21/
END:VEVENT
END:VCALENDAR