BEGIN:VCALENDAR
VERSION:2.0
PRODID:-//Artisan du dessert - ECPv4.6.26.1//NONSGML v1.0//EN
CALSCALE:GREGORIAN
METHOD:PUBLISH
X-WR-CALNAME:Artisan du dessert
X-ORIGINAL-URL:https://www.artisandudessert.ca
X-WR-CALDESC:Événements pour Artisan du dessert
BEGIN:VEVENT
DTSTART;TZID=America/Toronto:20190523T183000
DTEND;TZID=America/Toronto:20190523T213000
DTSTAMP:20260423T215504
CREATED:20190317T173140Z
LAST-MODIFIED:20190317T173140Z
UID:2733-1558636200-1558647000@www.artisandudessert.ca
SUMMARY:Confection de tartes estivales
DESCRIPTION:Atelier participatif de trois heures. Recettes de garnitures et de pâtes à tartes\, techniques de recouvrement et démonstration de modèles classiques à tendances. Tout le matériel est inclus dans le coût du cours et les élèves repartent avec leurs confections.  Pour les modalités d’inscription ou plus d’information n’hésitez pas à nous appeler au 819-246-8888. Prix : 60$ plus taxes
URL:https://www.artisandudessert.ca/atelier/confection-de-tartes-estivales/
END:VEVENT
END:VCALENDAR