BEGIN:VCALENDAR
VERSION:2.0
PRODID:-//Artisan du dessert - ECPv4.6.26.1//NONSGML v1.0//EN
CALSCALE:GREGORIAN
METHOD:PUBLISH
X-WR-CALNAME:Artisan du dessert
X-ORIGINAL-URL:https://www.artisandudessert.ca
X-WR-CALDESC:Événements pour Artisan du dessert
BEGIN:VEVENT
DTSTART;TZID=America/Toronto:20181215T093000
DTEND;TZID=America/Toronto:20181215T113000
DTSTAMP:20260423T231308
CREATED:20181126T163414Z
LAST-MODIFIED:20181126T163414Z
UID:2585-1544866200-1544873400@www.artisandudessert.ca
SUMMARY:Décoration de biscuits sur le thème de Noël
DESCRIPTION:Démonstration et pratique de 2 heures. Contenu: démonstration des techniques de base pour la décoration de biscuits. Pratique sur six biscuits qui pourront être rapportés à la maison.\n\nPour les modalités d’inscription ou plus d’information n’hésitez pas à nous appeler au 819-246-8888.\n\nPrix : 50$ plus taxes
URL:https://www.artisandudessert.ca/atelier/decoration-de-biscuits-sur-le-theme-de-noel/
END:VEVENT
END:VCALENDAR