BEGIN:VCALENDAR
VERSION:2.0
PRODID:-//Artisan du dessert - ECPv4.6.26.1//NONSGML v1.0//EN
CALSCALE:GREGORIAN
METHOD:PUBLISH
X-WR-CALNAME:Artisan du dessert
X-ORIGINAL-URL:https://www.artisandudessert.ca
X-WR-CALDESC:Événements pour Artisan du dessert
BEGIN:VEVENT
DTSTART;TZID=America/Toronto:20190516T183000
DTEND;TZID=America/Toronto:20190521T203000
DTSTAMP:20260423T215139
CREATED:20190317T172915Z
LAST-MODIFIED:20190317T172915Z
UID:2731-1558031400-1558470600@www.artisandudessert.ca
SUMMARY:Pastillage: Orchidées
DESCRIPTION:Deux ateliers participatifs de deux heures. Techniques pour faire la conception de magnifiques orchidées peinturées à la main et leurs bourgeons. Tout le matériel est inclus dans le coût du cours et les participants repartent avec leurs confections. Pour les modalités d’inscription ou plus d’information n’hésitez pas à nous appeler au 819-246-8888. Prix : 65$ plus taxes
URL:https://www.artisandudessert.ca/atelier/pastillage-orchidees/
END:VEVENT
END:VCALENDAR